BEGIN:VCALENDAR
VERSION:2.0
PRODID:
BEGIN:VEVENT
UID:145010imp
DTSTAMP:20260419T164736Z
DTSTART:20270428T150000Z
DTEND:20270428T183000Z
SUMMARY: Tax Issues for Real Estate & Homebuilding 26-27
DESCRIPTION: Taxation of real estate and homebuilding activities has been subject to IRS scrutiny\, primarily regarding compliance with cost capitalization issues and revenue recognition\, including the costing out of units sold. This course provides an in-depth analysis of tax accounting methods for various real estate and homebuilding activities\, including the application of IRC Section 263A (capitalization and inclusion in inventory costs of certain expenses) and IRC Section 461 (the general rule for the taxable year of deduction). This program will provide clear insights into approaching compliance with costing rules\, avoiding IRS audit adjustments and obtaining the most beneficial tax results for the home builder/developer\n 
CLASS:PUBLIC
END:VEVENT
END:VCALENDAR
