BEGIN:VCALENDAR
VERSION:2.0
PRODID:
BEGIN:VEVENT
UID:145018imp
DTSTAMP:20260420T045443Z
DTSTART:20270120T160000Z
DTEND:20270120T233000Z
SUMMARY: 101 Tax Planning Ideas 26-27
DESCRIPTION: The need for individual tax planning has never been greater. After passage of the One Big Beautiful Bill (OBBB)\, exclusions from income\, above-the-line deductions and credits will play a critical role in tax planning\, but the changes to business\, itemized and exemption deductions must also be considered. This course reviews the different types of planning and essential planning techniques. Examples of these approaches are illustrated as scores of tax strategies are presented\n 
CLASS:PUBLIC
END:VEVENT
END:VCALENDAR
