BEGIN:VCALENDAR
VERSION:2.0
PRODID:
BEGIN:VEVENT
UID:145049imp
DTSTAMP:20260419T131134Z
DTSTART:20260513T130000Z
DTEND:20260513T203000Z
SUMMARY: Retirement Advising: Accumulation & Decumulation Strategies 26-27
DESCRIPTION: This course offers an in-depth look at retirement needs models\, their flaws and ways to overcome associated drawbacks. You'll explore holistic retirement planning while reviewing threats to a successful retirement. You'll also hear about recent retirement planning changes\, including the elimination of the "Stretch IRA" by the SECURE Act and the new SECURE Act 2.0 changes. We'll address key questions to plan a comfortable retirement and discuss strategies to draw down retirement assets over an extended period\n 
CLASS:PUBLIC
END:VEVENT
END:VCALENDAR
