BEGIN:VCALENDAR
VERSION:2.0
PRODID:
BEGIN:VEVENT
UID:145068imp
DTSTAMP:20260419T164735Z
DTSTART:20270420T150000Z
DTEND:20270420T203000Z
SUMMARY: Estate Planning Strategies Using Irrevocable Trusts 26-27
DESCRIPTION: Many of our clients are looking for techniques to transfer wealth to their loved ones while minimizing gift and estate taxes. Irrevocable trusts take advantage of the currently high exclusion amount to freeze their estates. This course will analyze the advantages and disadvantages of using a wide variety of noncharitable trusts\, such as spousal lifetime access trusts (SLATs)\, grantor retained interest trusts (GRATs and GRUTs)\, intentionally defective grantor trusts (IDGTs)\, qualified personal residence trusts (QPRTs)\, life insurance trusts (ILITs)\, domestic asset protection trusts (DAPTs) and dynasty trusts\n 
CLASS:PUBLIC
END:VEVENT
END:VCALENDAR
