BEGIN:VCALENDAR
VERSION:2.0
PRODID:
BEGIN:VEVENT
UID:145070imp
DTSTAMP:20260421T013846Z
DTSTART:20260921T150000Z
DTEND:20260921T183000Z
SUMMARY: Tax Aspects of Stock Investing 26-27
DESCRIPTION: Despite the country's polarized politics and troubled economy\, the interest in stock investing remains high as younger investors accumulate for retirement and retirees seek to outpace inflation. We'll explore the most popular stock investment strategies and their taxation\, including dividend and capital appreciation strategies\, while avoiding the net investment income tax and restrictions on losses and straddles. Companion course: Income Tax Planning For Bond Investments\n  
CLASS:PUBLIC
END:VEVENT
END:VCALENDAR
