BEGIN:VCALENDAR
VERSION:2.0
PRODID:
BEGIN:VEVENT
UID:145073imp
DTSTAMP:20260420T082113Z
DTSTART:20260611T150000Z
DTEND:20260611T183000Z
SUMMARY: Income Tax Planning for Bond Investments 26-27
DESCRIPTION: Clients concerned about market volatility often prefer more conservative fixed-income investment strategies. There are many choices to consider: taxable or tax-exempt bonds\; Treasury Bills or inflation-indexed bonds\; and direct purchases\, exchange-traded funds\, or mutual funds. This course will explore the current economic environment\, various fixed-income strategies and their taxation. Companion course: Tax Aspects of Stock Investing\n  
CLASS:PUBLIC
END:VEVENT
END:VCALENDAR
