BEGIN:VCALENDAR
VERSION:2.0
PRODID:
BEGIN:VEVENT
UID:145085imp
DTSTAMP:20260419T195648Z
DTSTART:20270226T170000Z
DTEND:20270226T190000Z
SUMMARY: Agentic AI for CPAs: Automate Workflows With Intelligence 26-27
DESCRIPTION: The newest evolution of AI technology is Agentic AI. This technology enables you to deploy AI agents to take action on your behalf and execute tasks. Agentic AI is the key enabler to using AI technology to automate your workflows. Learning how to take advantage of AI agents provides a substantial competitive advantage. This course will teach you the fundamentals of agentic AI and how you can put them to work in your firm or business\n 
CLASS:PUBLIC
END:VEVENT
END:VCALENDAR
