BEGIN:VCALENDAR
VERSION:2.0
PRODID:
BEGIN:VEVENT
UID:145090imp
DTSTAMP:20260419T164530Z
DTSTART:20270419T160000Z
DTEND:20270419T180000Z
SUMMARY: AI 101 for CPAs: Core Concepts & Practical Applications 26-27
DESCRIPTION: New to AI" Start here. This beginner-friendly course explains how generative AI works\, what terms like "LLM" and "agentic AI" really mean and how CPAs can safely put these tools to use. You'll leave with a solid understanding of AI fundamentals and how they apply to accounting\, tax and finance\n 
CLASS:PUBLIC
END:VEVENT
END:VCALENDAR
