BEGIN:VCALENDAR
VERSION:2.0
PRODID:
BEGIN:VEVENT
UID:145095imp
DTSTAMP:20260420T033224Z
DTSTART:20270125T170000Z
DTEND:20270125T190000Z
SUMMARY: Google Gemini Deep Dive Hands-on Bootcamp for CPAs 26-27
DESCRIPTION: Google Gemini has emerged as a top leader in the generative AI competition. Due to the extraordinary size of the Google user base\, it a tool that every CPA should have a basic understanding of how to use it and apply it in business. This course will provide a comprehensive review and demonstration of how to put Google Gemini AI to work for you and your clients. It is designed as a "hands-on" course that facilitates you following along with the presenter to apply the features of Gemini on your computer. Practice files will be provided so that you don't have to expose your confidential data\n 
CLASS:PUBLIC
END:VEVENT
END:VCALENDAR
