BEGIN:VCALENDAR
VERSION:2.0
PRODID:
BEGIN:VEVENT
UID:145105imp
DTSTAMP:20260419T200615Z
DTSTART:20270219T170000Z
DTEND:20270219T190000Z
SUMMARY: ChatGPT Deep-Dive Hands-on Bootcamp for CPAs 26-27
DESCRIPTION: ChatGPT has grown its user base to over 800 million active users per week. As a leader in the generative market\, it is a tool that every CPA should have a basic understanding of how to use it and apply it in business. This course will provide a comprehensive review and demonstration of how to put ChatGPT to work for you and your clients. It is designed as a "hands-on" course that facilitates your following along with the presenter while applying the features of ChatGPT on your computer. Practice files will be provided so that you don't have to expose your confidential data\n 
CLASS:PUBLIC
END:VEVENT
END:VCALENDAR
