BEGIN:VCALENDAR
VERSION:2.0
PRODID:
BEGIN:VEVENT
UID:145106imp
DTSTAMP:20260419T225148Z
DTSTART:20260526T160000Z
DTEND:20260526T180000Z
SUMMARY: Microsoft 365 for CPAs: Unlocking Hidden Productivity Tools 26-27
DESCRIPTION: Microsoft 365 is likely the most underutilized software investment in your firm or business. This course will show how to tap it to many of the lesser known features of the Microsoft 365 ecosystems of apps to maximize your productivity and produce better outputs. Through a series of practical case study demonstrations you will learn how to leverage the full potential of Microsoft 365 in your organization\n 
CLASS:PUBLIC
END:VEVENT
END:VCALENDAR
