BEGIN:VCALENDAR
VERSION:2.0
PRODID:
BEGIN:VEVENT
UID:145114imp
DTSTAMP:20260420T142057Z
DTSTART:20261130T160000Z
DTEND:20261130T193000Z
SUMMARY: K2's Case Studies In Fraud & Technology Controls 26-27
DESCRIPTION: The fraud epidemic persists\, resulting in billions of dollars in annual losses. Participate in this session to learn how most fraud occurs and what controls you should implement to reduce fraud risks\n 
CLASS:PUBLIC
END:VEVENT
END:VCALENDAR
