BEGIN:VCALENDAR
VERSION:2.0
PRODID:
BEGIN:VEVENT
UID:145116imp
DTSTAMP:20260421T044658Z
DTSTART:20260824T200000Z
DTEND:20260824T210000Z
SUMMARY: K2's Six Essential Teams Features 26-27
DESCRIPTION: Microsoft Teams is now one of the most widely used tools in the business world today. Yet\, most business professionals take advantage of only a fraction of its features. Participate in this session to learn six essential Teams features you should use and how they will improve your productivity\n 
CLASS:PUBLIC
END:VEVENT
END:VCALENDAR
