BEGIN:VCALENDAR
VERSION:2.0
PRODID:
BEGIN:VEVENT
UID:145119imp
DTSTAMP:20260419T224147Z
DTSTART:20260526T130000Z
DTEND:20260526T203000Z
SUMMARY: K2's Excel Best Practices 26-27
DESCRIPTION: There are right and wrong ways to work with Excel. In this session\, you will learn a series of best practices to help you create Excel workbooks efficiently and effectively\, including handling security issues\, collaboration needs and reporting options\n 
CLASS:PUBLIC
END:VEVENT
END:VCALENDAR
