BEGIN:VCALENDAR
VERSION:2.0
PRODID:
BEGIN:VEVENT
UID:145128imp
DTSTAMP:20260421T012000Z
DTSTART:20260911T150000Z
DTEND:20260911T183000Z
SUMMARY: K2's Ethics & Technology 26-27
DESCRIPTION: Ethics issues in the field of technology continue to increase. Examples include software licensing\, copyright issues\, fraud\, work-life balance and a growing digital divide. Participate in this session to learn more about the ethical challenges associated with technology\n Note: This course qualifies to count toward the WICPA membership Ethics CPE requirement\n 
CLASS:PUBLIC
END:VEVENT
END:VCALENDAR
