BEGIN:VCALENDAR
VERSION:2.0
PRODID:
BEGIN:VEVENT
UID:145134imp
DTSTAMP:20260420T094538Z
DTSTART:20270104T180000Z
DTEND:20270104T200000Z
SUMMARY: K2's The Best Kept Secrets Of Microsoft 365 26-27
DESCRIPTION: Microsoft 365 offers more than just Excel\, Outlook\, Word and PowerPoint! Participate in this session to learn about the best-kept secrets in your Microsoft 365 subscription and how they can improve personal and team productivity and security\n 
CLASS:PUBLIC
END:VEVENT
END:VCALENDAR
