BEGIN:VCALENDAR
VERSION:2.0
PRODID:
BEGIN:VEVENT
UID:145136imp
DTSTAMP:20260420T222835Z
DTSTART:20260714T150000Z
DTEND:20260714T183000Z
SUMMARY: K2's Artificial Intelligence for Accounting & Finance Professionals 26-27
DESCRIPTION: From simple applications\, such as spam filtering\, to more advanced issues like fraud detection\, AI continues to move into the mainstream. In this session\, you will learn about different forms of AI and practical business applications of this emerging tool\n 
CLASS:PUBLIC
END:VEVENT
END:VCALENDAR
