BEGIN:VCALENDAR
VERSION:2.0
PRODID:
BEGIN:VEVENT
UID:145138imp
DTSTAMP:20260420T112539Z
DTSTART:20261222T160000Z
DTEND:20261222T193000Z
SUMMARY: K2's Artificial Intelligence for Accounting & Finance Professionals 26-27
DESCRIPTION: From simple applications\, such as spam filtering\, to more advanced issues like fraud detection\, AI continues to move into the mainstream. In this session\, you will learn about different forms of AI and practical business applications of this emerging tool\n 
CLASS:PUBLIC
END:VEVENT
END:VCALENDAR
