BEGIN:VCALENDAR
VERSION:2.0
PRODID:
BEGIN:VEVENT
UID:145139imp
DTSTAMP:20260419T224148Z
DTSTART:20260522T170000Z
DTEND:20260522T190000Z
SUMMARY: K2's Getting Started With Artificial Intelligence 26-27
DESCRIPTION: Generative AI tools\, such as ChatGPT\, Gemini and Copilot\, are available to everyone and offer great promise for enhanced productivity. Learn how you can begin to take advantage of these tools by participating in this session\n 
CLASS:PUBLIC
END:VEVENT
END:VCALENDAR
