BEGIN:VCALENDAR
VERSION:2.0
PRODID:
BEGIN:VEVENT
UID:145141imp
DTSTAMP:20260420T190013Z
DTSTART:20261030T170000Z
DTEND:20261030T190000Z
SUMMARY: K2's Getting Started With Artificial Intelligence 26-27
DESCRIPTION: Generative AI tools\, such as ChatGPT\, Gemini and Copilot\, are available to everyone and offer great promise for enhanced productivity. Learn how you can begin to take advantage of these tools by participating in this session\n 
CLASS:PUBLIC
END:VEVENT
END:VCALENDAR
