BEGIN:VCALENDAR
VERSION:2.0
PRODID:
BEGIN:VEVENT
UID:145144imp
DTSTAMP:20260421T030552Z
DTSTART:20260828T170000Z
DTEND:20260828T190000Z
SUMMARY: K2's Office Scripts - The New Macros 26-27
DESCRIPTION: Office Scripts are a new and exciting development for Excel and other applications. Although they are like macros in some respects\, most users will likely find them easier to work with. Learn how to use this powerful automation tool!\n  
CLASS:PUBLIC
END:VEVENT
END:VCALENDAR
