BEGIN:VCALENDAR
VERSION:2.0
PRODID:
BEGIN:VEVENT
UID:145145imp
DTSTAMP:20260420T221929Z
DTSTART:20261016T170000Z
DTEND:20261016T190000Z
SUMMARY: K2's Office Scripts - The New Macros 26-27
DESCRIPTION: Office Scripts are a new and exciting development for Excel and other applications. Although they are like macros in some respects\, most users will likely find them easier to work with. Learn how to use this powerful automation tool!\n  
CLASS:PUBLIC
END:VEVENT
END:VCALENDAR
