BEGIN:VCALENDAR
VERSION:2.0
PRODID:
BEGIN:VEVENT
UID:145148imp
DTSTAMP:20260421T012514Z
DTSTART:20260904T170000Z
DTEND:20260904T190000Z
SUMMARY: K2's Excel Tips\, Tricks & Techniques for Accountants 26-27
DESCRIPTION: Almost every accountant uses Excel\, but most don't use it as efficiently and effectively as they could or should. Participate in this session to learn various accountant-centric Excel tips\, tricks and techniques to leverage Excel for your benefit\n 
CLASS:PUBLIC
END:VEVENT
END:VCALENDAR
