BEGIN:VCALENDAR
VERSION:2.0
PRODID:
BEGIN:VEVENT
UID:145153imp
DTSTAMP:20260421T025704Z
DTSTART:20260901T150000Z
DTEND:20260901T183000Z
SUMMARY: K2's Technology Update 26-27
DESCRIPTION: Technology changes daily\, so how can you stay abreast of all the relevant issues and options" What trends do you need to monitor" Are there developments that will impact you" You can get answers to these and other questions by joining us for this update session\n 
CLASS:PUBLIC
END:VEVENT
END:VCALENDAR
