BEGIN:VCALENDAR
VERSION:2.0
PRODID:
BEGIN:VEVENT
UID:145158imp
DTSTAMP:20260419T195621Z
DTSTART:20270311T160000Z
DTEND:20270311T193000Z
SUMMARY: K2's Excel Charting & Visualizations 26-27
DESCRIPTION: Excel charts and other visualizations can be excellent tools for conveying your intended message. Join the K2 team in this session to learn more about how you can create compelling visualizations to help you communicate key business messages\n 
CLASS:PUBLIC
END:VEVENT
END:VCALENDAR
