BEGIN:VCALENDAR
VERSION:2.0
PRODID:
BEGIN:VEVENT
UID:145160imp
DTSTAMP:20260420T234906Z
DTSTART:20260727T200000Z
DTEND:20260727T210000Z
SUMMARY: K2's What’s New With QuickBooks 26-27
DESCRIPTION: The entire QuickBooks product family continues to evolve at a very rapid rate. Participate in this session to learn about the significant changes affecting QuickBooks Desktop\, Online and Enterprise Solutions users\n 
CLASS:PUBLIC
END:VEVENT
END:VCALENDAR
