BEGIN:VCALENDAR
VERSION:2.0
PRODID:
BEGIN:VEVENT
UID:145163imp
DTSTAMP:20260419T131124Z
DTSTART:20260513T130000Z
DTEND:20260513T203000Z
SUMMARY: K2's Business Intelligence With Microsoft Power BI Tools 26-27
DESCRIPTION: Business intelligence efforts continue to grow and Microsoft's Power BI platform is central to many of these efforts. Participate in this session to learn more about business intelligence and how to create dashboards using Power BI\n 
CLASS:PUBLIC
END:VEVENT
END:VCALENDAR
