BEGIN:VCALENDAR
VERSION:2.0
PRODID:
BEGIN:VEVENT
UID:145171imp
DTSTAMP:20260419T131124Z
DTSTART:20260512T200000Z
DTEND:20260512T210000Z
SUMMARY: K2's Top PDF Features You Should Know 26-27
DESCRIPTION: PDF documents are a staple of the business community\, yet most users are unaware of how to utilize this technology effectively. Participate in this session to learn ten valuable tips to help you get more from your PDFs\n 
CLASS:PUBLIC
END:VEVENT
END:VCALENDAR
