BEGIN:VCALENDAR
VERSION:2.0
PRODID:
BEGIN:VEVENT
UID:145176imp
DTSTAMP:20260420T234536Z
DTSTART:20260724T200000Z
DTEND:20260724T210000Z
SUMMARY: K2's Saving Time With Electronic Forms 26-27
DESCRIPTION: Business professionals can automate data collection processes by using today's electronic forms. Learn about these tools and how to deploy them in this session\n 
CLASS:PUBLIC
END:VEVENT
END:VCALENDAR
