BEGIN:VCALENDAR
VERSION:2.0
PRODID:
BEGIN:VEVENT
UID:145179imp
DTSTAMP:20260420T051233Z
DTSTART:20260604T150000Z
DTEND:20260604T183000Z
SUMMARY: K2's Data Analytics For Accountants & Auditors 26-27
DESCRIPTION: Data analytics is among the most widely discussed topics in business circles today. In this session\, you will learn about the four types of data analytics\, tools for generating data analytics measures and how to interpret and use data analytics results\n 
CLASS:PUBLIC
END:VEVENT
END:VCALENDAR
