BEGIN:VCALENDAR
VERSION:2.0
PRODID:
BEGIN:VEVENT
UID:145183imp
DTSTAMP:20260420T094334Z
DTSTART:20260615T170000Z
DTEND:20260615T190000Z
SUMMARY: K2's Advanced Topics In Power BI 26-27
DESCRIPTION: If you're ready to move past Power BI's fundamentals\, participate in this session to learn how to create user-defined calculations\, manage security options\, publish reports and dashboards to apps and add Key Performance Indicators\, among other items\n 
CLASS:PUBLIC
END:VEVENT
END:VCALENDAR
