BEGIN:VCALENDAR
VERSION:2.0
PRODID:
BEGIN:VEVENT
UID:145188imp
DTSTAMP:20260421T025606Z
DTSTART:20260814T150000Z
DTEND:20260814T183000Z
SUMMARY: K2's Securing Your Data: Practical Tools For Protecting Information 26-27
DESCRIPTION: Data security is a top-of-mind concern for almost all business professionals\, yet most struggle to achieve this objective. Make plans to participate in this session to learn about many practical tools you can use to protect your data and enhance cybersecurity\n 
CLASS:PUBLIC
END:VEVENT
END:VCALENDAR
