BEGIN:VCALENDAR
VERSION:2.0
PRODID:
BEGIN:VEVENT
UID:145189imp
DTSTAMP:20260420T190129Z
DTSTART:20261102T160000Z
DTEND:20261102T193000Z
SUMMARY: K2's Securing Your Data: Practical Tools For Protecting Information 26-27
DESCRIPTION: Data security is a top-of-mind concern for almost all business professionals\, yet most struggle to achieve this objective. Make plans to participate in this session to learn about many practical tools you can use to protect your data and enhance cybersecurity\n 
CLASS:PUBLIC
END:VEVENT
END:VCALENDAR
