BEGIN:VCALENDAR
VERSION:2.0
PRODID:
BEGIN:VEVENT
UID:145191imp
DTSTAMP:20260421T044602Z
DTSTART:20260508T170000Z
DTEND:20260508T190000Z
SUMMARY: K2's Excel’s Best Practices & Features 26-27
DESCRIPTION: Excel remains a staple tool for virtually all accounting and financial professionals. In this session\, learn about many of the newer features in Excel\, along with some you may have overlooked in the past'truly "must-see CPE!?\n  
CLASS:PUBLIC
END:VEVENT
END:VCALENDAR
