BEGIN:VCALENDAR
VERSION:2.0
PRODID:
BEGIN:VEVENT
UID:145193imp
DTSTAMP:20260419T195637Z
DTSTART:20270219T180000Z
DTEND:20270219T200000Z
SUMMARY: K2's Excel’s Best Practices & Features 26-27
DESCRIPTION: Excel remains a staple tool for virtually all accounting and financial professionals. In this session\, learn about many of the newer features in Excel\, along with some you may have overlooked in the past'truly "must-see CPE!?\n  
CLASS:PUBLIC
END:VEVENT
END:VCALENDAR
