BEGIN:VCALENDAR
VERSION:2.0
PRODID:
BEGIN:VEVENT
UID:145194imp
DTSTAMP:20260419T183218Z
DTSTART:20270319T170000Z
DTEND:20270319T190000Z
SUMMARY: K2's Excel’s Best Practices & Features 26-27
DESCRIPTION: Excel remains a staple tool for virtually all accounting and financial professionals. In this session\, learn about many of the newer features in Excel\, along with some you may have overlooked in the past'truly "must-see CPE!?\n  
CLASS:PUBLIC
END:VEVENT
END:VCALENDAR
