BEGIN:VCALENDAR
VERSION:2.0
PRODID:
BEGIN:VEVENT
UID:145195imp
DTSTAMP:20260420T033305Z
DTSTART:20260602T150000Z
DTEND:20260602T183000Z
SUMMARY: K2's Internal Controls in QuickBooks Online Environments 26-27
DESCRIPTION: Internal control issues often arise in QuickBooks Online environments. However\, that need not be the case! In this session\, you will learn about internal control features that can help you maximize your QBO experience while simultaneously reducing risk\n 
CLASS:PUBLIC
END:VEVENT
END:VCALENDAR
