BEGIN:VCALENDAR
VERSION:2.0
PRODID:
BEGIN:VEVENT
UID:145199imp
DTSTAMP:20260420T082051Z
DTSTART:20260612T170000Z
DTEND:20260612T190000Z
SUMMARY: K2's Eight Awesome PivotTable Features 26-27
DESCRIPTION: PivotTables are Excel's most powerful feature! Plan to participate in this session to learn about eight key PivotTable features to enhance your Excel-based reporting processes. Upon completing this session\, you'll be stunned at what PivotTables can do!\n  
CLASS:PUBLIC
END:VEVENT
END:VCALENDAR
