BEGIN:VCALENDAR
VERSION:2.0
PRODID:
BEGIN:VEVENT
UID:145202imp
DTSTAMP:20260420T171609Z
DTSTART:20270129T180000Z
DTEND:20270129T200000Z
SUMMARY: K2's Eight Awesome PivotTable Features 26-27
DESCRIPTION: PivotTables are Excel's most powerful feature! Plan to participate in this session to learn about eight key PivotTable features to enhance your Excel-based reporting processes. Upon completing this session\, you'll be stunned at what PivotTables can do!\n  
CLASS:PUBLIC
END:VEVENT
END:VCALENDAR
