BEGIN:VCALENDAR
VERSION:2.0
PRODID:
BEGIN:VEVENT
UID:145208imp
DTSTAMP:20260421T012714Z
DTSTART:20260910T150000Z
DTEND:20260910T223000Z
SUMMARY: K2's Excel Essentials For Staff Accountants 26-27
DESCRIPTION: Staff accountants often need guidance to learn which features can help them create effective Excel workbooks. This course will teach them about many of Excel's accounting-centric features enabling them to work more efficiently and generate accurate results\n 
CLASS:PUBLIC
END:VEVENT
END:VCALENDAR
