BEGIN:VCALENDAR
VERSION:2.0
PRODID:
BEGIN:VEVENT
UID:145210imp
DTSTAMP:20260420T154832Z
DTSTART:20261117T160000Z
DTEND:20261117T233000Z
SUMMARY: K2's Excel Essentials For Staff Accountants 26-27
DESCRIPTION: Staff accountants often need guidance to learn which features can help them create effective Excel workbooks. This course will teach them about many of Excel's accounting-centric features enabling them to work more efficiently and generate accurate results\n 
CLASS:PUBLIC
END:VEVENT
END:VCALENDAR
