BEGIN:VCALENDAR
VERSION:2.0
PRODID:
BEGIN:VEVENT
UID:145214imp
DTSTAMP:20260419T201838Z
DTSTART:20270222T180000Z
DTEND:20270222T200000Z
SUMMARY: K2's Ripped From the Headlines: Lessons From Notable Tech Crimes 26-27
DESCRIPTION: Technological advancements facilitate new forms of cybercrime and fraud. In this session\, you will learn how the crooks used technology to reap their ill-gotten rewards\n 
CLASS:PUBLIC
END:VEVENT
END:VCALENDAR
