BEGIN:VCALENDAR
VERSION:2.0
PRODID:
BEGIN:VEVENT
UID:145221imp
DTSTAMP:20260420T050544Z
DTSTART:20270119T140000Z
DTEND:20270119T213000Z
SUMMARY: K2's Excel PivotTables For Accountants 26-27
DESCRIPTION: Isn't it time you learned about PivotTables &mdash\; Excel's best feature" If so\, participate in this session to learn PivotTables from A to Z to take full advantage of this terrific tool's many benefits\n 
CLASS:PUBLIC
END:VEVENT
END:VCALENDAR
