BEGIN:VCALENDAR
VERSION:2.0
PRODID:
BEGIN:VEVENT
UID:145222imp
DTSTAMP:20260420T050600Z
DTSTART:20270119T160000Z
DTEND:20270119T233000Z
SUMMARY: K2's Excel PivotTables For Accountants 26-27
DESCRIPTION: Isn't it time you learned about PivotTables &mdash\; Excel's best feature" If so\, participate in this session to learn PivotTables from A to Z to take full advantage of this terrific tool's many benefits\n 
CLASS:PUBLIC
END:VEVENT
END:VCALENDAR
