BEGIN:VCALENDAR
VERSION:2.0
PRODID:
BEGIN:VEVENT
UID:145225imp
DTSTAMP:20260420T234849Z
DTSTART:20260928T200000Z
DTEND:20260928T210000Z
SUMMARY: K2's AI -- Better Prompts\, Better Results 26-27
DESCRIPTION: AI usage is everywhere! Is your organization taking all necessary steps to address security and privacy issues" In this session\, you will learn how to enhance security and privacy when working with AI\n 
CLASS:PUBLIC
END:VEVENT
END:VCALENDAR
