BEGIN:VCALENDAR
VERSION:2.0
PRODID:
BEGIN:VEVENT
UID:145234imp
DTSTAMP:20260419T183347Z
DTSTART:20270324T150000Z
DTEND:20270324T223000Z
SUMMARY: K2's Advanced Excel 26-27
DESCRIPTION: If you're ready to move beyond Excel's fundamental features\, participate in K2's Advanced Excel. This course will teach you about collaboration options\, security techniques\, tables\, data models\, PivotTables and advanced formulas\n 
CLASS:PUBLIC
END:VEVENT
END:VCALENDAR
