BEGIN:VCALENDAR
VERSION:2.0
PRODID:
BEGIN:VEVENT
UID:145236imp
DTSTAMP:20260420T222737Z
DTSTART:20260706T200000Z
DTEND:20260706T210000Z
SUMMARY: K2's Better Reporting With QuickBooks Online 26-27
DESCRIPTION: If you're using or plan to transition to QuickBooks Online\, will you be able to get the reports you need from the platform" In this session\, you'll learn how to maximize your reporting options when working with QuickBooks Online\n 
CLASS:PUBLIC
END:VEVENT
END:VCALENDAR
