BEGIN:VCALENDAR
VERSION:2.0
PRODID:
BEGIN:VEVENT
UID:145239imp
DTSTAMP:20260419T143238Z
DTSTART:20260514T170000Z
DTEND:20260514T190000Z
SUMMARY: K2's Formatting Excel Spreadsheets Correctly 26-27
DESCRIPTION: Stop wasting time formatting your Excel spreadsheets! Custom Formats\, Templates\, Styles\, the Accounting Format and Precision As Displayed are all options to improve Excel formatting. Join us in this session to learn best practices for formatting your spreadsheets\n 
CLASS:PUBLIC
END:VEVENT
END:VCALENDAR
