BEGIN:VCALENDAR
VERSION:2.0
PRODID:
BEGIN:VEVENT
UID:145242imp
DTSTAMP:20260420T014828Z
DTSTART:20270212T180000Z
DTEND:20270212T200000Z
SUMMARY: K2's Formatting Excel Spreadsheets Correctly 26-27
DESCRIPTION: Stop wasting time formatting your Excel spreadsheets! Custom Formats\, Templates\, Styles\, the Accounting Format and Precision As Displayed are all options to improve Excel formatting. Join us in this session to learn best practices for formatting your spreadsheets\n 
CLASS:PUBLIC
END:VEVENT
END:VCALENDAR
