BEGIN:VCALENDAR
VERSION:2.0
PRODID:
BEGIN:VEVENT
UID:145245imp
DTSTAMP:20260420T173247Z
DTSTART:20261113T210000Z
DTEND:20261113T220000Z
SUMMARY: K2's Harnessing ChatGPT 26-27
DESCRIPTION: Are you ready to maximize the utility of ChatGPT" If so\, participate in this session to learn how to leverage this tool's best features and options\n 
CLASS:PUBLIC
END:VEVENT
END:VCALENDAR
